BEGIN:VCALENDAR
VERSION:2.0
PRODID:-//wp-events-plugin.com//7.2.3.1//EN
TZID:America/New_York
X-WR-TIMEZONE:America/New_York
BEGIN:VEVENT
UID:171@cndf.qc.ca
DTSTART;TZID=America/New_York:20230916T130000
DTEND;TZID=America/New_York:20230916T130000
DTSTAMP:20230911T135427Z
URL:https://www.cndf.qc.ca/events/match-football-resq-collegial-andre-gras
 set-notre-dame-septembre-2023/
SUMMARY:André-Grasset c. Notre-Dame
DESCRIPTION:Premier match à domicile en 2023 (et troisième match de la sa
 ison) pour le Notre-Dame du CNDF qui accueillera les Phénix du Collège A
 ndré-Grasset.\n\nCette journée marquera également l'ouverture officiell
 e de la nouvelle galerie de presse du Stade des Anciens!\n\nBien qu'il soi
 t toujours possible d'acheter des billets sur place\, nous vous encourageo
 ns à vous les procurer à l'avance via le formulaire suivant :\n\n&nbsp\;
 \n
ATTACH;FMTTYPE=image/jpeg:https://www.cndf.qc.ca/wp-content/uploads/2023/0
 5/calendrier_andre-grasset_vs_cndf.png
CATEGORIES:Football
LOCATION:Campus Notre-Dame-de-Foy (stade des Anciens)\, 5000\, rue Clément
 -Lockquell\, Saint-Augustin-de-Desmaures\, Québec\, G3A 1B3\, Canada
X-APPLE-STRUCTURED-LOCATION;VALUE=URI;X-ADDRESS=5000\, rue Clément-Lockque
 ll\, Saint-Augustin-de-Desmaures\, Québec\, G3A 1B3\, Canada;X-APPLE-RADI
 US=100;X-TITLE=Campus Notre-Dame-de-Foy (stade des Anciens):geo:0,0
END:VEVENT
BEGIN:VTIMEZONE
TZID:America/New_York
X-LIC-LOCATION:America/New_York
BEGIN:DAYLIGHT
DTSTART:20230312T030000
TZOFFSETFROM:-0500
TZOFFSETTO:-0400
TZNAME:EDT
END:DAYLIGHT
END:VTIMEZONE
END:VCALENDAR