BEGIN:VCALENDAR
VERSION:2.0
PRODID:-//wp-events-plugin.com//7.2.3.1//EN
TZID:America/New_York
X-WR-TIMEZONE:America/New_York
BEGIN:VEVENT
UID:173@cndf.qc.ca
DTSTART;TZID=America/New_York:20230930T130000
DTEND;TZID=America/New_York:20230930T130000
DTSTAMP:20230911T140218Z
URL:https://www.cndf.qc.ca/events/match-football-rseq-collegial-notre-dame
 -cegep-vanier-septembre-2023/
SUMMARY:Notre-Dame c. Vanier
DESCRIPTION:Ce cinquième match de la saison de football collégial du RSEQ
  mettra aux prises le Notre-Dame aux Cheetahs du Collège Vanier.\n\n&nbs
 p\;
ATTACH;FMTTYPE=image/jpeg:https://www.cndf.qc.ca/wp-content/uploads/2022/0
 7/calendrier_cndf_vs_college_vanier.png
CATEGORIES:Football
LOCATION:Collège Vanier\, 821\, avenue Sainte-Croix\, Saint-Laurent\, Qué
 bec\, H4L 3X9\, Canada
X-APPLE-STRUCTURED-LOCATION;VALUE=URI;X-ADDRESS=821\, avenue Sainte-Croix\,
  Saint-Laurent\, Québec\, H4L 3X9\, Canada;X-APPLE-RADIUS=100;X-TITLE=Col
 lège Vanier:geo:0,0
END:VEVENT
BEGIN:VTIMEZONE
TZID:America/New_York
X-LIC-LOCATION:America/New_York
BEGIN:DAYLIGHT
DTSTART:20230312T030000
TZOFFSETFROM:-0500
TZOFFSETTO:-0400
TZNAME:EDT
END:DAYLIGHT
END:VTIMEZONE
END:VCALENDAR