BEGIN:VCALENDAR
VERSION:2.0
PRODID:-//wp-events-plugin.com//7.2.3.1//EN
TZID:America/New_York
X-WR-TIMEZONE:America/New_York
BEGIN:VEVENT
UID:205@cndf.qc.ca
DTSTART;TZID=America/New_York:20231027T190000
DTEND;TZID=America/New_York:20231027T210000
DTSTAMP:20231012T132526Z
URL:https://www.cndf.qc.ca/events/match-rugby-feminin-collegial-rseq-cegep
 -saint-hyacinthe-notre-dame-octobre-2023/
SUMMARY:Notre-Dame c. Cégep Saint-Hyacinthe
DESCRIPTION:Lors de ce sixième et dernier match de la saison régulière d
 e rugby féminin du RSEQ\, le Notre-Dame du CNDF affrontera les Lauréats 
 du Cégep Saint-Hyacinthe.\n\nNous vous rappelons que vous avez jusqu’au
  12 novembre pour participer à la Loto Notre-Dame\, un moitié-moitié cu
 mulatif. Procurez-vous vos billets ici pour encourager les équipes sporti
 ves du Campus et faire augmenter le montant de la cagnotte!\n\n&nbsp\;
ATTACH;FMTTYPE=image/jpeg:https://www.cndf.qc.ca/wp-content/uploads/2022/0
 8/rugby-feminin-cndf.jpg
CATEGORIES:Rugby,Rugby féminin à 12
LOCATION:Cégep de Saint-Hyacinthe\, 3000\, avenue Boullé\, Saint-Hyacinth
 e\, Québec\, J2S 1H9\, Canada
X-APPLE-STRUCTURED-LOCATION;VALUE=URI;X-ADDRESS=3000\, avenue Boullé\, Sai
 nt-Hyacinthe\, Québec\, J2S 1H9\, Canada;X-APPLE-RADIUS=100;X-TITLE=Cége
 p de Saint-Hyacinthe:geo:0,0
END:VEVENT
BEGIN:VTIMEZONE
TZID:America/New_York
X-LIC-LOCATION:America/New_York
BEGIN:DAYLIGHT
DTSTART:20230312T030000
TZOFFSETFROM:-0500
TZOFFSETTO:-0400
TZNAME:EDT
END:DAYLIGHT
END:VTIMEZONE
END:VCALENDAR