BEGIN:VCALENDAR
VERSION:2.0
PRODID:-//wp-events-plugin.com//7.2.3.1//EN
TZID:America/New_York
X-WR-TIMEZONE:America/New_York
BEGIN:VEVENT
UID:164@cndf.qc.ca
DTSTART;TZID=America/New_York:20231006T193000
DTEND;TZID=America/New_York:20231006T193000
DTSTAMP:20230911T154804Z
URL:https://www.cndf.qc.ca/events/match-rugby-feminin-collegial-rseq-limoi
 lou-notre-dame-octobre-2023/
SUMMARY:Notre-Dame c. Limoilou
DESCRIPTION:Lors de ce quatrième match de la saison de rugby féminin du R
 SEQ\, le Notre-Dame du CNDF affrontera les Titans du Cégep Limoilou à do
 micile\, au Stade des Anciens.\n\n&nbsp\;
ATTACH;FMTTYPE=image/jpeg:https://www.cndf.qc.ca/wp-content/uploads/2022/0
 8/rugby-feminin-cndf.jpg
CATEGORIES:Rugby,Rugby féminin à 12
LOCATION:Campus Notre-Dame-de-Foy (stade des Anciens)\, 5000\, rue Clément
 -Lockquell\, Saint-Augustin-de-Desmaures\, Québec\, G3A 1B3\, Canada
X-APPLE-STRUCTURED-LOCATION;VALUE=URI;X-ADDRESS=5000\, rue Clément-Lockque
 ll\, Saint-Augustin-de-Desmaures\, Québec\, G3A 1B3\, Canada;X-APPLE-RADI
 US=100;X-TITLE=Campus Notre-Dame-de-Foy (stade des Anciens):geo:0,0
END:VEVENT
BEGIN:VTIMEZONE
TZID:America/New_York
X-LIC-LOCATION:America/New_York
BEGIN:DAYLIGHT
DTSTART:20230312T030000
TZOFFSETFROM:-0500
TZOFFSETTO:-0400
TZNAME:EDT
END:DAYLIGHT
END:VTIMEZONE
END:VCALENDAR