BEGIN:VCALENDAR
VERSION:2.0
PRODID:-//wp-events-plugin.com//7.2.3.1//EN
TZID:America/New_York
X-WR-TIMEZONE:America/New_York
BEGIN:VEVENT
UID:204@cndf.qc.ca
DTSTART;TZID=America/New_York:20231014T160000
DTEND;TZID=America/New_York:20231014T160000
DTSTAMP:20231012T132340Z
URL:https://www.cndf.qc.ca/events/match-rugby-feminin-collegial-rseq-notre
 -dame-cegep-beauce-appalaches-octobre-2023/
SUMMARY:Notre-Dame c. Cégep Beauce-Appalaches
DESCRIPTION:Lors de ce cinquième match de la saison de rugby féminin du R
 SEQ\, le Notre-Dame du CNDF affrontera les Condors du Cégep Beauce-Appala
 ches.\n\nNous vous rappelons que vous avez jusqu’au 12 novembre pour par
 ticiper à la Loto Notre-Dame\, un moitié-moitié cumulatif. Procurez-vou
 s vos billets ici pour encourager les équipes sportives du Campus et fair
 e augmenter le montant de la cagnotte!\n\n&nbsp\;
ATTACH;FMTTYPE=image/jpeg:https://www.cndf.qc.ca/wp-content/uploads/2022/0
 8/rugby-feminin-cndf.jpg
CATEGORIES:Rugby,Rugby féminin à 12
LOCATION:Cégep Beauce-Appalaches\, 11625\, 10e avenue\, Saint-Georges\, Qu
 ébec\, G5Y 1B9\, Québec\, Canada
X-APPLE-STRUCTURED-LOCATION;VALUE=URI;X-ADDRESS=11625\, 10e avenue\, Saint-
 Georges\, Québec\, G5Y 1B9\, Québec\, Canada;X-APPLE-RADIUS=100;X-TITLE=
 Cégep Beauce-Appalaches:geo:0,0
END:VEVENT
BEGIN:VTIMEZONE
TZID:America/New_York
X-LIC-LOCATION:America/New_York
BEGIN:DAYLIGHT
DTSTART:20230312T030000
TZOFFSETFROM:-0500
TZOFFSETTO:-0400
TZNAME:EDT
END:DAYLIGHT
END:VTIMEZONE
END:VCALENDAR