BEGIN:VCALENDAR
VERSION:2.0
PRODID:-//wp-events-plugin.com//7.2.3.1//EN
TZID:America/New_York
X-WR-TIMEZONE:America/New_York
BEGIN:VEVENT
UID:203@cndf.qc.ca
DTSTART;TZID=America/New_York:20230924T100000
DTEND;TZID=America/New_York:20230924T100000
DTSTAMP:20230911T160929Z
URL:https://www.cndf.qc.ca/events/match-rugby-feminin-collegial-rseq-notre
 -dame-sainte-foy-septembre-2023/
SUMMARY:Sainte-Foy c. Notre-Dame
DESCRIPTION:Lors de ce deuxième match de la saison de rugby collégial fé
 minin du RSEQ\, le Notre-Dame du CNDF affrontera les Dynamiques du Cégep 
 de Sainte-Foy au PEPS.\n\n&nbsp\;
ATTACH;FMTTYPE=image/jpeg:https://www.cndf.qc.ca/wp-content/uploads/2022/0
 8/rugby-feminin-cndf.jpg
CATEGORIES:Rugby,Rugby féminin à 12
LOCATION:PEPS\, 2300\, rue de la Terrasse\, Québec\, Canada\, G1V 0A6\, Qu
 ébec\, Canada
X-APPLE-STRUCTURED-LOCATION;VALUE=URI;X-ADDRESS=2300\, rue de la Terrasse\,
  Québec\, Canada\, G1V 0A6\, Québec\, Canada;X-APPLE-RADIUS=100;X-TITLE=
 PEPS:geo:0,0
END:VEVENT
BEGIN:VTIMEZONE
TZID:America/New_York
X-LIC-LOCATION:America/New_York
BEGIN:DAYLIGHT
DTSTART:20230312T030000
TZOFFSETFROM:-0500
TZOFFSETTO:-0400
TZNAME:EDT
END:DAYLIGHT
END:VTIMEZONE
END:VCALENDAR