BEGIN:VCALENDAR
VERSION:2.0
PRODID:-//wp-events-plugin.com//7.2.3.1//EN
TZID:America/New_York
X-WR-TIMEZONE:America/New_York
BEGIN:VEVENT
UID:179@cndf.qc.ca
DTSTART;TZID=America/New_York:20240224T000000
DTEND;TZID=America/New_York:20240224T000000
DTSTAMP:20230911T182042Z
URL:https://www.cndf.qc.ca/events/natation-competition-collegial-rseq-shaw
 inigan-fevrier-2024/
SUMMARY:Compétition #3 à Shawinigan
DESCRIPTION:Dernière compétition de la saison régulière pour le Notre-D
 ame Natation. Les heures sont à déterminer.\n\n&nbsp\;
ATTACH;FMTTYPE=image/jpeg:https://www.cndf.qc.ca/wp-content/uploads/2023/0
 5/equipe_natation_cndf.jpg
CATEGORIES:Natation,Sports
LOCATION:Cégep de Drummondville\, 960\, rue Saint-Georges\,  Drummondville
 \, Québec\, J2C 6A2\, Canada
X-APPLE-STRUCTURED-LOCATION;VALUE=URI;X-ADDRESS=960\, rue Saint-Georges\,  
 Drummondville\, Québec\, J2C 6A2\, Canada;X-APPLE-RADIUS=100;X-TITLE=Cég
 ep de Drummondville:geo:0,0
END:VEVENT
BEGIN:VTIMEZONE
TZID:America/New_York
X-LIC-LOCATION:America/New_York
BEGIN:STANDARD
DTSTART:20231105T010000
TZOFFSETFROM:-0400
TZOFFSETTO:-0500
TZNAME:EST
END:STANDARD
END:VTIMEZONE
END:VCALENDAR