BEGIN:VCALENDAR
VERSION:2.0
PRODID:-//wp-events-plugin.com//7.2.3.1//EN
TZID:America/New_York
X-WR-TIMEZONE:America/New_York
BEGIN:VEVENT
UID:177@cndf.qc.ca
DTSTART;TZID=America/New_York:20231021T000000
DTEND;TZID=America/New_York:20231021T000000
DTSTAMP:20231010T154127Z
URL:https://www.cndf.qc.ca/events/natation-competition-collegial-rseq-vict
 oriaville-octobre-2023/
SUMMARY:Compétition #1 à Victoriaville
DESCRIPTION:Première compétition de l'année (et de l'histoire) pour le N
 otre-Dame Natation! Les heures sont à déterminer.\n\nNous vous rappelons
  que vous avez jusqu’au 12 novembre pour participer à la Loto Notre-Dam
 e\, un moitié-moitié cumulatif. Procurez-vous vos billets ici pour encou
 rager les équipes sportives du Campus et faire augmenter le montant de la
  cagnotte!
ATTACH;FMTTYPE=image/jpeg:https://www.cndf.qc.ca/wp-content/uploads/2023/0
 5/equipe_natation_cndf.jpg
CATEGORIES:Natation,Sports
LOCATION:Cégep de Victoriaville\, 475\, rue Notre-Dame Est\, Victoriaville
 \, Québec\, G6P 4B3\, Canada
X-APPLE-STRUCTURED-LOCATION;VALUE=URI;X-ADDRESS=475\, rue Notre-Dame Est\, 
 Victoriaville\, Québec\, G6P 4B3\, Canada;X-APPLE-RADIUS=100;X-TITLE=Cég
 ep de Victoriaville:geo:0,0
END:VEVENT
BEGIN:VTIMEZONE
TZID:America/New_York
X-LIC-LOCATION:America/New_York
BEGIN:DAYLIGHT
DTSTART:20230312T030000
TZOFFSETFROM:-0500
TZOFFSETTO:-0400
TZNAME:EDT
END:DAYLIGHT
END:VTIMEZONE
END:VCALENDAR