BEGIN:VCALENDAR
VERSION:2.0
PRODID:-//wp-events-plugin.com//7.2.3.1//EN
TZID:America/New_York
X-WR-TIMEZONE:America/New_York
BEGIN:VEVENT
UID:266@cndf.qc.ca
DTSTART;TZID=America/New_York:20240907T130000
DTEND;TZID=America/New_York:20240907T140000
DTSTAMP:20240903T182738Z
URL:https://www.cndf.qc.ca/events/notre-dame-bleu-cegep-garneau-septembre-
 2024/
SUMMARY:Notre-Dame (bleu) c. Cégep Garneau
DESCRIPTION:Première partie de la saison de l’équipe féminine du Notre
 -Dame Rugby (bleu) contre le Cégep Garneau.
ATTACH;FMTTYPE=image/jpeg:https://www.cndf.qc.ca/wp-content/uploads/2024/0
 5/rugby-feminin-notre-dame-2023.jpg
CATEGORIES:Rugby,Rugby féminin à 12
LOCATION:Cégep Garneau\, 1660\, boulevard de l'Entente\, Québec\, Québec
 \, G1S 4S3\, Canada
X-APPLE-STRUCTURED-LOCATION;VALUE=URI;X-ADDRESS=1660\, boulevard de l'Enten
 te\, Québec\, Québec\, G1S 4S3\, Canada;X-APPLE-RADIUS=100;X-TITLE=Cége
 p Garneau:geo:0,0
END:VEVENT
BEGIN:VTIMEZONE
TZID:America/New_York
X-LIC-LOCATION:America/New_York
BEGIN:DAYLIGHT
DTSTART:20240310T030000
TZOFFSETFROM:-0500
TZOFFSETTO:-0400
TZNAME:EDT
END:DAYLIGHT
END:VTIMEZONE
END:VCALENDAR