BEGIN:VCALENDAR
VERSION:2.0
PRODID:-//wp-events-plugin.com//7.2.3.1//EN
TZID:America/New_York
X-WR-TIMEZONE:America/New_York
BEGIN:VEVENT
UID:268@cndf.qc.ca
DTSTART;TZID=America/New_York:20240922T113000
DTEND;TZID=America/New_York:20240922T123000
DTSTAMP:20240916T150723Z
URL:https://www.cndf.qc.ca/events/notre-dame-bleu-cegep-limoilou-septembre
 -2024/
SUMMARY:Notre-Dame (bleu) c. Cégep Limoilou
DESCRIPTION:Troisième partie de la saison de l’équipe féminine du Notr
 e-Dame Rugby (bleu) contre le Cégep Limoilou.
ATTACH;FMTTYPE=image/jpeg:https://www.cndf.qc.ca/wp-content/uploads/2024/0
 5/rugby-feminin-notre-dame-2023.jpg
CATEGORIES:Rugby,Rugby féminin à 12
LOCATION:Cégep Limoilou - Charlesbourg\, 7600 3e Av Est\, Québec\, Québe
 c\, G1H 7L4\, Capitale-Nationale\, Canada
X-APPLE-STRUCTURED-LOCATION;VALUE=URI;X-ADDRESS=7600 3e Av Est\, Québec\, 
 Québec\, G1H 7L4\, Capitale-Nationale\, Canada;X-APPLE-RADIUS=100;X-TITLE
 =Cégep Limoilou - Charlesbourg:geo:0,0
END:VEVENT
BEGIN:VTIMEZONE
TZID:America/New_York
X-LIC-LOCATION:America/New_York
BEGIN:DAYLIGHT
DTSTART:20240310T030000
TZOFFSETFROM:-0500
TZOFFSETTO:-0400
TZNAME:EDT
END:DAYLIGHT
END:VTIMEZONE
END:VCALENDAR