BEGIN:VCALENDAR
VERSION:2.0
PRODID:-//wp-events-plugin.com//7.2.3.1//EN
TZID:America/New_York
X-WR-TIMEZONE:America/New_York
BEGIN:VEVENT
UID:452@cndf.qc.ca
DTSTART;TZID=America/New_York:20261024T130000
DTEND;TZID=America/New_York:20261024T130000
DTSTAMP:20260424T182640Z
URL:https://www.cndf.qc.ca/events/notre-dame-cegep-limoilou-24octobre2026/
SUMMARY:Notre-Dame c. Cégep Limoilou
DESCRIPTION:Lors de ce septième match de la saison\, le Notre-Dame du CNDF
  affrontera les Titans du Cégep Limoilou.
ATTACH;FMTTYPE=image/jpeg:https://www.cndf.qc.ca/wp-content/uploads/2021/0
 8/calendrier_cndf_vs_limoilou.png
CATEGORIES:Football,Sports
LOCATION:Cégep Limoilou - Charlesbourg\, 7600 3e Av Est\, Québec\, Québe
 c\, G1H 7L4\, Capitale-Nationale\, Canada
X-APPLE-STRUCTURED-LOCATION;VALUE=URI;X-ADDRESS=7600 3e Av Est\, Québec\, 
 Québec\, G1H 7L4\, Capitale-Nationale\, Canada;X-APPLE-RADIUS=100;X-TITLE
 =Cégep Limoilou - Charlesbourg:geo:0,0
END:VEVENT
BEGIN:VTIMEZONE
TZID:America/New_York
X-LIC-LOCATION:America/New_York
BEGIN:DAYLIGHT
DTSTART:20260308T030000
TZOFFSETFROM:-0500
TZOFFSETTO:-0400
TZNAME:EDT
END:DAYLIGHT
END:VTIMEZONE
END:VCALENDAR