BEGIN:VCALENDAR
VERSION:2.0
PRODID:-//wp-events-plugin.com//7.2.3.1//EN
TZID:America/New_York
X-WR-TIMEZONE:America/New_York
BEGIN:VEVENT
UID:250@cndf.qc.ca
DTSTART;TZID=America/New_York:20240906T210000
DTEND;TZID=America/New_York:20240906T220000
DTSTAMP:20240903T182623Z
URL:https://www.cndf.qc.ca/events/notre-dame-cegep-saint-hyacinthe-septemb
 re-2024/
SUMMARY:Notre-Dame (jaune) c. Cégep Saint-Hyacinthe
DESCRIPTION:Première partie de la saison de l’équipe féminine du Notre
 -Dame Rugby (jaune) contre le Cégep de Saint-Hyacinthe.\n\n&nbsp\;
ATTACH;FMTTYPE=image/jpeg:https://www.cndf.qc.ca/wp-content/uploads/2024/0
 5/rugby-feminin-notre-dame-2023.jpg
CATEGORIES:Rugby,Rugby féminin à 12
LOCATION:Cégep de Saint-Hyacinthe\, 3000\, avenue Boullé\, Saint-Hyacinth
 e\, Québec\, J2S 1H9\, Canada
X-APPLE-STRUCTURED-LOCATION;VALUE=URI;X-ADDRESS=3000\, avenue Boullé\, Sai
 nt-Hyacinthe\, Québec\, J2S 1H9\, Canada;X-APPLE-RADIUS=100;X-TITLE=Cége
 p de Saint-Hyacinthe:geo:0,0
END:VEVENT
BEGIN:VTIMEZONE
TZID:America/New_York
X-LIC-LOCATION:America/New_York
BEGIN:DAYLIGHT
DTSTART:20240310T030000
TZOFFSETFROM:-0500
TZOFFSETTO:-0400
TZNAME:EDT
END:DAYLIGHT
END:VTIMEZONE
END:VCALENDAR