BEGIN:VCALENDAR
VERSION:2.0
PRODID:-//wp-events-plugin.com//7.2.3.1//EN
TZID:America/New_York
X-WR-TIMEZONE:America/New_York
BEGIN:VEVENT
UID:352@cndf.qc.ca
DTSTART;TZID=America/New_York:20251004T130000
DTEND;TZID=America/New_York:20251004T160000
DTSTAMP:20250709T162642Z
URL:https://www.cndf.qc.ca/events/notre-dame-football-cegep-saint-jean-sur
 -richelieu-2025/
SUMMARY:Notre-Dame c. Cégep Saint-Jean-sur-Richelieu
DESCRIPTION:Lors de ce sixième match de la saison\, le Notre-Dame du Campu
 s Notre-Dame-de-Foy affrontera les Géants du Cégep Saint-Jean-sur-Richel
 ieu.
ATTACH;FMTTYPE=image/jpeg:https://www.cndf.qc.ca/wp-content/uploads/2024/0
 5/notre-dame-st-jean-richelieu.png
CATEGORIES:Football,Sports
LOCATION:Stade Alphonse-Desjardins\, 30\, boulevard du Séminaire nord\, Sa
 int-Jean-sur-Richelieu\, Québec\, J3B 5J4\, Canada
X-APPLE-STRUCTURED-LOCATION;VALUE=URI;X-ADDRESS=30\, boulevard du Séminair
 e nord\, Saint-Jean-sur-Richelieu\, Québec\, J3B 5J4\, Canada;X-APPLE-RAD
 IUS=100;X-TITLE=Stade Alphonse-Desjardins:geo:0,0
END:VEVENT
BEGIN:VTIMEZONE
TZID:America/New_York
X-LIC-LOCATION:America/New_York
BEGIN:DAYLIGHT
DTSTART:20250309T030000
TZOFFSETFROM:-0500
TZOFFSETTO:-0400
TZNAME:EDT
END:DAYLIGHT
END:VTIMEZONE
END:VCALENDAR