BEGIN:VCALENDAR
VERSION:2.0
PRODID:-//wp-events-plugin.com//7.2.3.1//EN
TZID:America/New_York
X-WR-TIMEZONE:America/New_York
BEGIN:VEVENT
UID:349@cndf.qc.ca
DTSTART;TZID=America/New_York:20250906T130000
DTEND;TZID=America/New_York:20250906T160000
DTSTAMP:20250709T161848Z
URL:https://www.cndf.qc.ca/events/notre-dame-football-college-andre-grasse
 t-2025/
SUMMARY:Notre-Dame c. Collège André-Grasset
DESCRIPTION:Lors de ce deuxième match de la saison\, le Notre-Dame du Camp
 us Notre-Dame-de-Foy affrontera les Phénix du Collège André-Grasset.
ATTACH;FMTTYPE=image/jpeg:https://www.cndf.qc.ca/wp-content/uploads/2022/0
 7/calendrier_cndf_vs_andre-grasset.png
CATEGORIES:Football,Sports
LOCATION:Complexe sportif Claude-Robillard\, 8800 avenue Christophe Colomb 
 \, Montréal\, Québec\, H2M 2E7\, Canada
X-APPLE-STRUCTURED-LOCATION;VALUE=URI;X-ADDRESS=8800 avenue Christophe Colo
 mb \, Montréal\, Québec\, H2M 2E7\, Canada;X-APPLE-RADIUS=100;X-TITLE=Co
 mplexe sportif Claude-Robillard:geo:0,0
END:VEVENT
BEGIN:VTIMEZONE
TZID:America/New_York
X-LIC-LOCATION:America/New_York
BEGIN:DAYLIGHT
DTSTART:20250309T030000
TZOFFSETFROM:-0500
TZOFFSETTO:-0400
TZNAME:EDT
END:DAYLIGHT
END:VTIMEZONE
END:VCALENDAR