BEGIN:VCALENDAR
VERSION:2.0
PRODID:-//wp-events-plugin.com//7.2.3.1//EN
TZID:America/New_York
X-WR-TIMEZONE:America/New_York
BEGIN:VEVENT
UID:348@cndf.qc.ca
DTSTART;TZID=America/New_York:20250829T193000
DTEND;TZID=America/New_York:20250829T223000
DTSTAMP:20250709T160225Z
URL:https://www.cndf.qc.ca/events/notre-dame-football-college-champlain-le
 nnoxville/
SUMMARY:Notre-Dame c. Collège Champlain-Lennoxville
DESCRIPTION:Lors de ce tout premier match de la saison de football 2025\, l
 e Notre-Dame du Campus Notre-Dame-de-Foy affrontera les Cougars du Collèg
 e Champlain-Lennoxville.
ATTACH;FMTTYPE=image/jpeg:https://www.cndf.qc.ca/wp-content/uploads/2021/0
 8/calendrier_cndf_vs_lennoxville.png
CATEGORIES:Football,Sports
LOCATION:Coulter Field\, 2600\, rue College\, Sherbrooke\, Québec\, J1M 0C
 8\, Canada
X-APPLE-STRUCTURED-LOCATION;VALUE=URI;X-ADDRESS=2600\, rue College\, Sherbr
 ooke\, Québec\, J1M 0C8\, Canada;X-APPLE-RADIUS=100;X-TITLE=Coulter Field
 :geo:0,0
END:VEVENT
BEGIN:VTIMEZONE
TZID:America/New_York
X-LIC-LOCATION:America/New_York
BEGIN:DAYLIGHT
DTSTART:20250309T030000
TZOFFSETFROM:-0500
TZOFFSETTO:-0400
TZNAME:EDT
END:DAYLIGHT
END:VTIMEZONE
END:VCALENDAR