BEGIN:VCALENDAR
VERSION:2.0
PRODID:-//wp-events-plugin.com//7.2.3.1//EN
TZID:America/New_York
X-WR-TIMEZONE:America/New_York
BEGIN:VEVENT
UID:379@cndf.qc.ca
DTSTART;TZID=America/New_York:20250921T130000
DTEND;TZID=America/New_York:20250921T140000
DTSTAMP:20250912T151422Z
URL:https://www.cndf.qc.ca/events/notre-dame-jaune-cegep-victoriaville-202
 5/
SUMMARY:Cégep de Victoriaville c. Notre-Dame (jaune)
DESCRIPTION:Troisième partie de la saison de l'équipe féminine du Notre-
 Dame Rugby (jaune) contre le Cégep de Victoriaville.\n\nLe match sera dif
 fusé en direct ici.
ATTACH;FMTTYPE=image/jpeg:https://www.cndf.qc.ca/wp-content/uploads/2025/0
 6/rugby-feminin-equipe-jaune-1-scaled.jpg
CATEGORIES:Rugby,Rugby féminin à 12
LOCATION:Campus Notre-Dame-de-Foy (stade des Anciens)\, 5000\, rue Clément
 -Lockquell\, Saint-Augustin-de-Desmaures\, Québec\, G3A 1B3\, Canada
X-APPLE-STRUCTURED-LOCATION;VALUE=URI;X-ADDRESS=5000\, rue Clément-Lockque
 ll\, Saint-Augustin-de-Desmaures\, Québec\, G3A 1B3\, Canada;X-APPLE-RADI
 US=100;X-TITLE=Campus Notre-Dame-de-Foy (stade des Anciens):geo:0,0
END:VEVENT
BEGIN:VTIMEZONE
TZID:America/New_York
X-LIC-LOCATION:America/New_York
BEGIN:DAYLIGHT
DTSTART:20250309T030000
TZOFFSETFROM:-0500
TZOFFSETTO:-0400
TZNAME:EDT
END:DAYLIGHT
END:VTIMEZONE
END:VCALENDAR