BEGIN:VCALENDAR
VERSION:2.0
PRODID:-//wp-events-plugin.com//7.2.3.1//EN
TZID:America/New_York
X-WR-TIMEZONE:America/New_York
BEGIN:VEVENT
UID:262@cndf.qc.ca
DTSTART;TZID=America/New_York:20241019T180000
DTEND;TZID=America/New_York:20241019T190000
DTSTAMP:20240903T195202Z
URL:https://www.cndf.qc.ca/events/notre-dame-sherbrooke-octobre-2024/
SUMMARY:Notre-Dame (jaune) c. Sherbrooke
DESCRIPTION:Sixième partie de la saison de l’équipe féminine du Notre-
 Dame Rugby (jaune) contre le Cégep de Sherbrooke.\n\n&nbsp\;
ATTACH;FMTTYPE=image/jpeg:https://www.cndf.qc.ca/wp-content/uploads/2024/0
 5/rugby-feminin-notre-dame-2023.jpg
CATEGORIES:Rugby,Rugby féminin à 12
LOCATION:Université de Sherbrooke\, 2500\, boul. de l'Université\, Sherbr
 ooke\, Québec\, J1K 2R1\, Canada
X-APPLE-STRUCTURED-LOCATION;VALUE=URI;X-ADDRESS=2500\, boul. de l'Universit
 é\, Sherbrooke\, Québec\, J1K 2R1\, Canada;X-APPLE-RADIUS=100;X-TITLE=Un
 iversité de Sherbrooke:geo:0,0
END:VEVENT
BEGIN:VTIMEZONE
TZID:America/New_York
X-LIC-LOCATION:America/New_York
BEGIN:DAYLIGHT
DTSTART:20240310T030000
TZOFFSETFROM:-0500
TZOFFSETTO:-0400
TZNAME:EDT
END:DAYLIGHT
END:VTIMEZONE
END:VCALENDAR