BEGIN:VCALENDAR
VERSION:2.0
PRODID:-//wp-events-plugin.com//7.2.3.1//EN
TZID:America/New_York
X-WR-TIMEZONE:America/New_York
BEGIN:VEVENT
UID:254@cndf.qc.ca
DTSTART;TZID=America/New_York:20240920T193000
DTEND;TZID=America/New_York:20240920T203000
DTSTAMP:20240903T193000Z
URL:https://www.cndf.qc.ca/events/notre-dame-victoriaville-septembre-2024/
SUMMARY:Notre-Dame (jaune) c. Victoriaville
DESCRIPTION:Troisième partie de la saison de l’équipe féminine du Notr
 e-Dame Rugby (jaune) contre le Cégep de Victoriaville.\n\n&nbsp\;
ATTACH;FMTTYPE=image/jpeg:https://www.cndf.qc.ca/wp-content/uploads/2024/0
 5/rugby-feminin-notre-dame-2023.jpg
CATEGORIES:Rugby,Rugby féminin à 12
LOCATION:Cégep de Victoriaville\, 475\, rue Notre-Dame Est\, Victoriaville
 \, Québec\, G6P 4B3\, Canada
X-APPLE-STRUCTURED-LOCATION;VALUE=URI;X-ADDRESS=475\, rue Notre-Dame Est\, 
 Victoriaville\, Québec\, G6P 4B3\, Canada;X-APPLE-RADIUS=100;X-TITLE=Cég
 ep de Victoriaville:geo:0,0
END:VEVENT
BEGIN:VTIMEZONE
TZID:America/New_York
X-LIC-LOCATION:America/New_York
BEGIN:DAYLIGHT
DTSTART:20240310T030000
TZOFFSETFROM:-0500
TZOFFSETTO:-0400
TZNAME:EDT
END:DAYLIGHT
END:VTIMEZONE
END:VCALENDAR