BEGIN:VCALENDAR
VERSION:2.0
PRODID:-//wp-events-plugin.com//7.2.3.1//EN
TZID:America/New_York
X-WR-TIMEZONE:America/New_York
BEGIN:VEVENT
UID:69@cndf.qc.ca
DTSTART;TZID=America/Toronto:20220311T190000
DTEND;TZID=America/Toronto:20220311T190000
DTSTAMP:20220302T203006Z
URL:https://www.cndf.qc.ca/events/notre-dame-vs-levis-basketball-masculin/
SUMMARY:Lévis vs Notre-Dame
DESCRIPTION:Dixième match de la saison de basketball masculine (RSEQ) pour
  le Notre-Dame.
ATTACH;FMTTYPE=image/jpeg:https://www.cndf.qc.ca/wp-content/uploads/2021/1
 0/calendrier_basketball_masculin.jpg
CATEGORIES:Basketball masculin
LOCATION:Campus Notre-Dame-de-Foy\, 5000\, rue Clément-Lockquell\, Saint-A
 ugustin-de-Desmaures\, Québec\, G3A 1B3\, Québec\, Canada
X-APPLE-STRUCTURED-LOCATION;VALUE=URI;X-ADDRESS=5000\, rue Clément-Lockque
 ll\, Saint-Augustin-de-Desmaures\, Québec\, G3A 1B3\, Québec\, Canada;X-
 APPLE-RADIUS=100;X-TITLE=Campus Notre-Dame-de-Foy:geo:0,0
END:VEVENT
BEGIN:VTIMEZONE
TZID:America/Toronto
X-LIC-LOCATION:America/Toronto
BEGIN:STANDARD
DTSTART:20211107T010000
TZOFFSETFROM:-0400
TZOFFSETTO:-0500
TZNAME:EST
END:STANDARD
END:VTIMEZONE
END:VCALENDAR