BEGIN:VCALENDAR
VERSION:2.0
PRODID:-//wp-events-plugin.com//7.2.3.1//EN
TZID:America/New_York
X-WR-TIMEZONE:America/New_York
BEGIN:VEVENT
UID:154@cndf.qc.ca
DTSTART;TZID=America/New_York:20230225T140000
DTEND;TZID=America/New_York:20230225T140000
DTSTAMP:20230202T150834Z
URL:https://www.cndf.qc.ca/events/notre-dame-vs-matane/
SUMMARY:Notre-Dame vs Matane
DESCRIPTION:Match de la saison de l'équipe masculine de basketball du CNDF
  dans la ligue RSEQ. Il s'agit d'une reprise du match qui devait avoir lie
 u le 4 février.
ATTACH;FMTTYPE=image/jpeg:https://www.cndf.qc.ca/wp-content/uploads/2021/1
 0/calendrier_basketball_masculin.jpg
CATEGORIES:Basketball masculin,Sports
END:VEVENT
BEGIN:VTIMEZONE
TZID:America/New_York
X-LIC-LOCATION:America/New_York
BEGIN:STANDARD
DTSTART:20221106T010000
TZOFFSETFROM:-0400
TZOFFSETTO:-0500
TZNAME:EST
END:STANDARD
END:VTIMEZONE
END:VCALENDAR