BEGIN:VCALENDAR
VERSION:2.0
PRODID:-//wp-events-plugin.com//7.2.3.1//EN
TZID:America/New_York
X-WR-TIMEZONE:America/New_York
BEGIN:VEVENT
UID:374@cndf.qc.ca
DTSTART;TZID=America/New_York:20251004T110000
DTEND;TZID=America/New_York:20251004T120000
DTSTAMP:20250605T195504Z
URL:https://www.cndf.qc.ca/events/rugby-cegep-beauce-appalaches-notre-dame
 -bleu-2025/
SUMMARY:Notre-Dame (bleu) c. Cégep de Beauce-Appalaches
DESCRIPTION:Quatrième partie de la saison de l’équipe féminine du Notr
 e-Dame Rugby (bleu) contre le Cégep de Beauce-Appalaches.
ATTACH;FMTTYPE=image/jpeg:https://www.cndf.qc.ca/wp-content/uploads/2025/0
 6/rugby-feminin-equipe-bleue-1.jpg
CATEGORIES:Rugby,Rugby féminin à 12
LOCATION:Cégep Beauce-Appalaches\, 11625\, 10e avenue\, Saint-Georges\, Qu
 ébec\, G5Y 1B9\, Québec\, Canada
X-APPLE-STRUCTURED-LOCATION;VALUE=URI;X-ADDRESS=11625\, 10e avenue\, Saint-
 Georges\, Québec\, G5Y 1B9\, Québec\, Canada;X-APPLE-RADIUS=100;X-TITLE=
 Cégep Beauce-Appalaches:geo:0,0
END:VEVENT
BEGIN:VTIMEZONE
TZID:America/New_York
X-LIC-LOCATION:America/New_York
BEGIN:DAYLIGHT
DTSTART:20250309T030000
TZOFFSETFROM:-0500
TZOFFSETTO:-0400
TZNAME:EDT
END:DAYLIGHT
END:VTIMEZONE
END:VCALENDAR