BEGIN:VCALENDAR
VERSION:2.0
PRODID:-//wp-events-plugin.com//7.2.3.1//EN
TZID:America/New_York
X-WR-TIMEZONE:America/New_York
BEGIN:VEVENT
UID:371@cndf.qc.ca
DTSTART;TZID=America/New_York:20250907T100000
DTEND;TZID=America/New_York:20250907T110000
DTSTAMP:20250605T194213Z
URL:https://www.cndf.qc.ca/events/rugby-cegep-limoilou-notre-dame-bleu-202
 5/
SUMMARY:Notre-Dame (bleu) c. Cégep Limoilou
DESCRIPTION:Première partie de la saison de l’équipe féminine du Notre
 -Dame Rugby (bleu) contre le Cégep Limoilou.
ATTACH;FMTTYPE=image/jpeg:https://www.cndf.qc.ca/wp-content/uploads/2025/0
 6/rugby-feminin-equipe-bleue-1.jpg
CATEGORIES:Rugby,Rugby féminin à 12
LOCATION:Cégep Limoilou\, 1300\, 8ème Avenue\, Québec\, Québec\, G1J 5L
 5\, Canada
X-APPLE-STRUCTURED-LOCATION;VALUE=URI;X-ADDRESS=1300\, 8ème Avenue\, Québ
 ec\, Québec\, G1J 5L5\, Canada;X-APPLE-RADIUS=100;X-TITLE=Cégep Limoilou
 :geo:0,0
END:VEVENT
BEGIN:VTIMEZONE
TZID:America/New_York
X-LIC-LOCATION:America/New_York
BEGIN:DAYLIGHT
DTSTART:20250309T030000
TZOFFSETFROM:-0500
TZOFFSETTO:-0400
TZNAME:EDT
END:DAYLIGHT
END:VTIMEZONE
END:VCALENDAR