BEGIN:VCALENDAR
VERSION:2.0
PRODID:-//wp-events-plugin.com//7.2.3.1//EN
TZID:America/New_York
X-WR-TIMEZONE:America/New_York
BEGIN:VEVENT
UID:380@cndf.qc.ca
DTSTART;TZID=America/New_York:20250928T130000
DTEND;TZID=America/New_York:20250928T140000
DTSTAMP:20250924T134202Z
URL:https://www.cndf.qc.ca/events/rugby-cegep-sherbrooke-notre-dame-jaune-
 2025/
SUMMARY:Notre-Dame (jaune) c. Cégep de Sherbrooke
DESCRIPTION:Quatrième partie de la saison de l'équipe féminine du Notre-
 Dame Rugby (jaune) contre le Cégep de Sherbrooke.
ATTACH;FMTTYPE=image/jpeg:https://www.cndf.qc.ca/wp-content/uploads/2025/0
 6/rugby-feminin-equipe-jaune-1-scaled.jpg
CATEGORIES:Rugby,Rugby féminin à 12
END:VEVENT
BEGIN:VTIMEZONE
TZID:America/New_York
X-LIC-LOCATION:America/New_York
BEGIN:DAYLIGHT
DTSTART:20250309T030000
TZOFFSETFROM:-0500
TZOFFSETTO:-0400
TZNAME:EDT
END:DAYLIGHT
END:VTIMEZONE
END:VCALENDAR