BEGIN:VCALENDAR
VERSION:2.0
PRODID:-//wp-events-plugin.com//7.2.3.1//EN
TZID:America/New_York
X-WR-TIMEZONE:America/New_York
BEGIN:VEVENT
UID:382@cndf.qc.ca
DTSTART;TZID=America/New_York:20251025T130000
DTEND;TZID=America/New_York:20251025T140000
DTSTAMP:20250605T195637Z
URL:https://www.cndf.qc.ca/events/rugby-cegep-trois-rivieres-notre-dame-ja
 une-2025/
SUMMARY:Notre-Dame (jaune) c. Cégep de Trois-Rivières
DESCRIPTION:Sixième partie de la saison de l'équipe féminine du Notre-Da
 me Rugby (jaune) contre le Cégep de Trois-Rivières.
ATTACH;FMTTYPE=image/jpeg:https://www.cndf.qc.ca/wp-content/uploads/2025/0
 6/rugby-feminin-equipe-jaune-1-scaled.jpg
CATEGORIES:Rugby,Rugby féminin à 12
LOCATION:Cégep de Trois-Rivières\, 3175\, boulevard Laviolette\, Trois-Ri
 vières\, Québec\, G8Z 1E9\, Canada
X-APPLE-STRUCTURED-LOCATION;VALUE=URI;X-ADDRESS=3175\, boulevard Laviolette
 \, Trois-Rivières\, Québec\, G8Z 1E9\, Canada;X-APPLE-RADIUS=100;X-TITLE
 =Cégep de Trois-Rivières:geo:0,0
END:VEVENT
BEGIN:VTIMEZONE
TZID:America/New_York
X-LIC-LOCATION:America/New_York
BEGIN:DAYLIGHT
DTSTART:20250309T030000
TZOFFSETFROM:-0500
TZOFFSETTO:-0400
TZNAME:EDT
END:DAYLIGHT
END:VTIMEZONE
END:VCALENDAR