BEGIN:VCALENDAR
VERSION:2.0
PRODID:-//wp-events-plugin.com//7.2.3.1//EN
TZID:America/New_York
X-WR-TIMEZONE:America/New_York
BEGIN:VEVENT
UID:108@cndf.qc.ca
DTSTART;TZID=America/New_York:20221016T000000
DTEND;TZID=America/New_York:20221016T000000
DTSTAMP:20221004T144729Z
URL:https://www.cndf.qc.ca/events/rugby-feminin-au-cegep-de-sainte-foy/
SUMMARY:Rugby Féminin au Cégep de Sainte-Foy
DESCRIPTION:
ATTACH;FMTTYPE=image/jpeg:https://www.cndf.qc.ca/wp-content/uploads/2022/0
 8/rugby-feminin-cndf.jpg
CATEGORIES:Rugby,Rugby féminin à 12
LOCATION:Cégep de Sainte-Foy\, 2410\, chemin Sainte-Foy\, Québec\, Québe
 c\, G1V 1T2\, Canada
X-APPLE-STRUCTURED-LOCATION;VALUE=URI;X-ADDRESS=2410\, chemin Sainte-Foy\, 
 Québec\, Québec\, G1V 1T2\, Canada;X-APPLE-RADIUS=100;X-TITLE=Cégep de 
 Sainte-Foy:geo:0,0
END:VEVENT
BEGIN:VTIMEZONE
TZID:America/New_York
X-LIC-LOCATION:America/New_York
BEGIN:DAYLIGHT
DTSTART:20220313T030000
TZOFFSETFROM:-0500
TZOFFSETTO:-0400
TZNAME:EDT
END:DAYLIGHT
END:VTIMEZONE
END:VCALENDAR