BEGIN:VCALENDAR
VERSION:2.0
PRODID:-//wp-events-plugin.com//7.2.3.1//EN
TZID:America/New_York
X-WR-TIMEZONE:America/New_York
BEGIN:VEVENT
UID:434@cndf.qc.ca
DTSTART;TZID=America/New_York:20251108T113000
DTEND;TZID=America/New_York:20251108T123000
DTSTAMP:20251105T170047Z
URL:https://www.cndf.qc.ca/events/rugby-finale-regionale-2025/
SUMMARY:Finale régionale du RSEQ : Notre-Dame (équipe bleue) c. Cégep de
  Sherbrooke
DESCRIPTION:L'équipe bleue du Notre-Dame Rugby affrontera les Volontaires 
 lors de cette grande finale du RSEQ. Avec une fiche parfaite de 6 victoire
 s et 0 défaite\, elles sont prêtes pour relever ce dernier défi!\n\nIl 
 sera possible de regarder le match en webdiffusion : https://youtube.com/l
 ive/QpiLj3Ml2qQ?feature=share
ATTACH;FMTTYPE=image/jpeg:https://www.cndf.qc.ca/wp-content/uploads/2025/0
 6/rugby-feminin-equipe-bleue-1.jpg
CATEGORIES:Rugby,Rugby féminin à 12
LOCATION:Cégep de Sherbrooke\, 355 Rue du Cegep\, Sherbrooke\,  Quebec\,  
 J1E 2E7\, Canada
X-APPLE-STRUCTURED-LOCATION;VALUE=URI;X-ADDRESS=355 Rue du Cegep\, Sherbroo
 ke\,  Quebec\,  J1E 2E7\, Canada;X-APPLE-RADIUS=100;X-TITLE=Cégep de Sher
 brooke:geo:0,0
END:VEVENT
BEGIN:VTIMEZONE
TZID:America/New_York
X-LIC-LOCATION:America/New_York
BEGIN:STANDARD
DTSTART:20251102T010000
TZOFFSETFROM:-0400
TZOFFSETTO:-0500
TZNAME:EST
END:STANDARD
END:VTIMEZONE
END:VCALENDAR