BEGIN:VCALENDAR
VERSION:2.0
PRODID:-//wp-events-plugin.com//7.2.3.1//EN
TZID:America/New_York
X-WR-TIMEZONE:America/New_York
BEGIN:VEVENT
UID:103@cndf.qc.ca
DTSTART;TZID=America/New_York:20221009T000000
DTEND;TZID=America/New_York:20221009T000000
DTSTAMP:20221003T164614Z
URL:https://www.cndf.qc.ca/events/rugby-masculin-a-victoriaville/
SUMMARY:Rugby Masculin à Victoriaville
DESCRIPTION:
ATTACH;FMTTYPE=image/jpeg:https://www.cndf.qc.ca/wp-content/uploads/2021/0
 9/calendrier_rugby_masculin_2021-1.jpg
CATEGORIES:Rugby,Rugby masculin à 7
LOCATION:Cégep de Victoriaville\, 475\, rue Notre-Dame Est\, Victoriaville
 \, Québec\, G6P 4B3\, Canada
X-APPLE-STRUCTURED-LOCATION;VALUE=URI;X-ADDRESS=475\, rue Notre-Dame Est\, 
 Victoriaville\, Québec\, G6P 4B3\, Canada;X-APPLE-RADIUS=100;X-TITLE=Cég
 ep de Victoriaville:geo:0,0
END:VEVENT
BEGIN:VTIMEZONE
TZID:America/New_York
X-LIC-LOCATION:America/New_York
BEGIN:DAYLIGHT
DTSTART:20220313T030000
TZOFFSETFROM:-0500
TZOFFSETTO:-0400
TZNAME:EDT
END:DAYLIGHT
END:VTIMEZONE
END:VCALENDAR