BEGIN:VCALENDAR
VERSION:2.0
PRODID:-//wp-events-plugin.com//7.2.3.1//EN
TZID:America/New_York
X-WR-TIMEZONE:America/New_York
BEGIN:VEVENT
UID:238@cndf.qc.ca
DTSTART;TZID=America/New_York:20231112T130000
DTEND;TZID=America/New_York:20231112T170000
DTSTAMP:20231106T155609Z
URL:https://www.cndf.qc.ca/events/rugby-masculin-et-feminin-au-cndf-de-la-
 province/
SUMMARY:Coupe des conférences 2023
DESCRIPTION:Première édition de la Coupe des conférences mettant aux pr
 ises les meilleures équipes collégiales de rugby masculin et féminin de
  la province\n\n 	masculin : deux premières positions conférence nord-es
 t et deux premières positions conférence sud-ouest\n 	féminin : premiè
 re position conférence nord-est et première position conférence sud-oue
 st\n\n&nbsp\;\n\n\n\n
ATTACH;FMTTYPE=image/jpeg:https://www.cndf.qc.ca/wp-content/uploads/2022/0
 8/rugby-feminin-cndf.jpg
CATEGORIES:Rugby,Rugby féminin à 12,Rugby masculin à 7
LOCATION:Campus Notre-Dame-de-Foy\, 5000\, rue Clément-Lockquell\, Saint-A
 ugustin-de-Desmaures\, Québec\, G3A 1B3\, Québec\, Canada
X-APPLE-STRUCTURED-LOCATION;VALUE=URI;X-ADDRESS=5000\, rue Clément-Lockque
 ll\, Saint-Augustin-de-Desmaures\, Québec\, G3A 1B3\, Québec\, Canada;X-
 APPLE-RADIUS=100;X-TITLE=Campus Notre-Dame-de-Foy:geo:0,0
END:VEVENT
BEGIN:VTIMEZONE
TZID:America/New_York
X-LIC-LOCATION:America/New_York
BEGIN:STANDARD
DTSTART:20231105T010000
TZOFFSETFROM:-0400
TZOFFSETTO:-0500
TZNAME:EST
END:STANDARD
END:VTIMEZONE
END:VCALENDAR