BEGIN:VCALENDAR
VERSION:2.0
PRODID:-//wp-events-plugin.com//7.2.3.1//EN
TZID:America/New_York
X-WR-TIMEZONE:America/New_York
BEGIN:VEVENT
UID:166@cndf.qc.ca
DTSTART;TZID=America/New_York:20231029T090000
DTEND;TZID=America/New_York:20231029T090000
DTSTAMP:20231023T185305Z
URL:https://www.cndf.qc.ca/events/rugby-masculin-finales-regionales-octobr
 e-2023
SUMMARY:Finales régionales - rugby masculin
DESCRIPTION:Finales régionales de rugby masculin. Les équipes et les heur
 es sont à déterminer en fonction du classement.\n\nNous vous rappelons q
 ue vous avez jusqu’au 12 novembre pour participer à la Loto Notre-Dame\
 , un moitié-moitié cumulatif. Procurez-vous vos billets ici pour encoura
 ger les équipes sportives du Campus et faire augmenter le montant de la c
 agnotte!
ATTACH;FMTTYPE=image/jpeg:https://www.cndf.qc.ca/wp-content/uploads/2023/0
 5/notre-dame-rugby-6-1.jpg
CATEGORIES:Rugby,Rugby masculin à 7
LOCATION:Cégep de Victoriaville\, 475\, rue Notre-Dame Est\, Victoriaville
 \, Québec\, G6P 4B3\, Canada
X-APPLE-STRUCTURED-LOCATION;VALUE=URI;X-ADDRESS=475\, rue Notre-Dame Est\, 
 Victoriaville\, Québec\, G6P 4B3\, Canada;X-APPLE-RADIUS=100;X-TITLE=Cég
 ep de Victoriaville:geo:0,0
END:VEVENT
BEGIN:VTIMEZONE
TZID:America/New_York
X-LIC-LOCATION:America/New_York
BEGIN:DAYLIGHT
DTSTART:20230312T030000
TZOFFSETFROM:-0500
TZOFFSETTO:-0400
TZNAME:EDT
END:DAYLIGHT
END:VTIMEZONE
END:VCALENDAR