BEGIN:VCALENDAR
VERSION:2.0
PRODID:-//wp-events-plugin.com//7.2.3.1//EN
TZID:America/New_York
X-WR-TIMEZONE:America/New_York
BEGIN:VEVENT
UID:157@cndf.qc.ca
DTSTART;TZID=America/New_York:20230415T090000
DTEND;TZID=America/New_York:20230415T150000
DTSTAMP:20230412T142019Z
URL:https://www.cndf.qc.ca/events/salon-ecole-privee-2023/
SUMMARY:Salon de l'école privée
DESCRIPTION:Le CNDF sera présent au Salon de l'école privée\, qui aura 
 lieu le 15 avril au PEPS de l'Université Laval\, de 9h à 15h. Venez nous
  rencontrer et nous poser vos questions!
ATTACH;FMTTYPE=image/jpeg:https://www.cndf.qc.ca/wp-content/uploads/2023/0
 4/salon-de-lecole-prive.jpg
CATEGORIES:Autres
END:VEVENT
BEGIN:VTIMEZONE
TZID:America/New_York
X-LIC-LOCATION:America/New_York
BEGIN:DAYLIGHT
DTSTART:20230312T030000
TZOFFSETFROM:-0500
TZOFFSETTO:-0400
TZNAME:EDT
END:DAYLIGHT
END:VTIMEZONE
END:VCALENDAR