BEGIN:VCALENDAR
VERSION:2.0
PRODID:-//wp-events-plugin.com//7.2.3.1//EN
TZID:America/New_York
X-WR-TIMEZONE:America/New_York
BEGIN:VEVENT
UID:346@cndf.qc.ca
DTSTART;TZID=America/New_York:20250514T190000
DTEND;TZID=America/New_York:20250514T213000
DTSTAMP:20250327T173534Z
URL:https://www.cndf.qc.ca/events/spectacle-des-finissants-du-dec-en-musiq
 ue/
SUMMARY:Spectacle des finissants du DEC en Musique
DESCRIPTION:Billets en vente au bas de la page!\n\nLe CNDF est fier de vous
  présenter le Combo des finissants 2025 en Technique professionnelle de
  musique et chanson! Venez vibrer au son de Jérémy Lévesque\, Sarah-Je
 anne Thorn et William Labrecque à la voix\, accompagnés par Cédric Ba
 con Simard au piano et Emmanuel St-Pierre Bernier à la batterie.\n\nAu
  programme : un répertoire captivant mêlant jazz envoûtant et grands su
 ccès modernes\, le tout sous la direction musicale d’Antoine Daigneault
 \, qui les accompagnera à la basse.\n\n✨ Une soirée unique\, haute en 
 couleur et en émotions\, qui promet de vous faire vivre des moments magiq
 ues! Ne manquez pas cette occasion de découvrir des talents exceptionnels
  en pleine ascension.\n\n&nbsp\;\n\nL’ultime concert de nos finissants d
 u programme de 3 ans\, ça se passe au Vieux Bureau de Poste de Lévis.\n
 \nRéservez vos billets dès maintenant!\n\n&nbsp\;\n&nbsp\;\n\n
ATTACH;FMTTYPE=image/jpeg:https://www.cndf.qc.ca/wp-content/uploads/2025/0
 3/hexa-1.jpg
CATEGORIES:Musique,Spectacles
LOCATION:Vieux Bureau de Poste\, 2172\, chemin du Fleuve\, Lévis\, QC\, G6
 W 1Y6\, Canada
X-APPLE-STRUCTURED-LOCATION;VALUE=URI;X-ADDRESS=2172\, chemin du Fleuve\, L
 évis\, QC\, G6W 1Y6\, Canada;X-APPLE-RADIUS=100;X-TITLE=Vieux Bureau de P
 oste:geo:0,0
END:VEVENT
BEGIN:VTIMEZONE
TZID:America/New_York
X-LIC-LOCATION:America/New_York
BEGIN:DAYLIGHT
DTSTART:20250309T030000
TZOFFSETFROM:-0500
TZOFFSETTO:-0400
TZNAME:EDT
END:DAYLIGHT
END:VTIMEZONE
END:VCALENDAR