BEGIN:VCALENDAR
VERSION:2.0
PRODID:-//wp-events-plugin.com//7.2.3.1//EN
TZID:America/New_York
X-WR-TIMEZONE:America/New_York
BEGIN:VEVENT
UID:82@cndf.qc.ca
DTSTART;TZID=America/New_York:20220421T193000
DTEND;TZID=America/New_York:20220421T203000
DTSTAMP:20220420T155633Z
URL:https://www.cndf.qc.ca/events/spectacle-pop-2022/
SUMMARY:Spectacle Pop : Pandemia la tournée
DESCRIPTION:Le projet Spectacle Pop\, c’est le projet annuel des étudi
 ants en Musique au CNDF. À la fois fête de fin d’année et évaluatio
 n pour les étudiants et étudiantes y prenant part\, cet événement nous
  réserve toujours de belles surprises.\n\nCette année\, ce sont les ann
 ées ’80 qui seront à l’honneur : fluo\, spray-net et toupettes!\n\n
 On vous attend en grand nombre! Achetez vos billets via le formulaire ci-d
 essous :\n\n
ATTACH;FMTTYPE=image/jpeg:https://www.cndf.qc.ca/wp-content/uploads/2022/0
 3/entete-calendrier-spectacle-pop-2022-pandemia.jpg
CATEGORIES:Musique,Spectacles
LOCATION:Auditorium Jean-Pierre-Tremblay\, 5000\, rue Clément-Lockquell\, 
 Saint-Augustin-de-Desmaures\, Québec\, G3A 1B3\, Canada
X-APPLE-STRUCTURED-LOCATION;VALUE=URI;X-ADDRESS=5000\, rue Clément-Lockque
 ll\, Saint-Augustin-de-Desmaures\, Québec\, G3A 1B3\, Canada;X-APPLE-RADI
 US=100;X-TITLE=Auditorium Jean-Pierre-Tremblay:geo:0,0
END:VEVENT
BEGIN:VTIMEZONE
TZID:America/New_York
X-LIC-LOCATION:America/New_York
BEGIN:DAYLIGHT
DTSTART:20220313T030000
TZOFFSETFROM:-0500
TZOFFSETTO:-0400
TZNAME:EDT
END:DAYLIGHT
END:VTIMEZONE
END:VCALENDAR