BEGIN:VCALENDAR
VERSION:2.0
PRODID:-//wp-events-plugin.com//7.2.3.1//EN
TZID:America/New_York
X-WR-TIMEZONE:America/New_York
BEGIN:VEVENT
UID:199@cndf.qc.ca
DTSTART;TZID=America/New_York:20240418T200000
DTEND;TZID=America/New_York:20240418T210000
DTSTAMP:20240418T152525Z
URL:https://www.cndf.qc.ca/events/spectacle-pop-etudiants-musique-cndf-202
 4/
SUMMARY:Spectacle Pop  2024 - La revue musicale "Country"
DESCRIPTION:Le projet Spectacle Pop\, c’est le projet annuel des étudian
 ts en Musique au CNDF. À la fois fête de fin d’année et évaluation p
 our les étudiants et étudiantes y prenant part\, cet événement nous r
 éserve toujours de belles surprises. Cette année\, les étudiants de deu
 xième année du département de Musique vous présentent leur revue music
 ale "Country"\, durant laquelle ils feront notamment un clin d'œil aux Co
 wboys Fringants.\n\nMise en scène et éclairage professionnels seront au 
 rendez-vous\, de même que l’immense talent de nos musiciens! On vous at
 tend en grand nombre à l'auditorium du pavillon Central!\n\n\n
ATTACH;FMTTYPE=image/jpeg:https://www.cndf.qc.ca/wp-content/uploads/2023/0
 8/logo-country-rock.jpg
CATEGORIES:Arts de la scène,Musique,Spectacles
LOCATION:Auditorium Jean-Pierre-Tremblay\, 5000\, rue Clément-Lockquell\, 
 Saint-Augustin-de-Desmaures\, Québec\, G3A 1B3\, Canada
X-APPLE-STRUCTURED-LOCATION;VALUE=URI;X-ADDRESS=5000\, rue Clément-Lockque
 ll\, Saint-Augustin-de-Desmaures\, Québec\, G3A 1B3\, Canada;X-APPLE-RADI
 US=100;X-TITLE=Auditorium Jean-Pierre-Tremblay:geo:0,0
END:VEVENT
BEGIN:VTIMEZONE
TZID:America/New_York
X-LIC-LOCATION:America/New_York
BEGIN:DAYLIGHT
DTSTART:20240310T030000
TZOFFSETFROM:-0500
TZOFFSETTO:-0400
TZNAME:EDT
END:DAYLIGHT
END:VTIMEZONE
END:VCALENDAR