BEGIN:VCALENDAR
VERSION:2.0
PRODID:-//wp-events-plugin.com//7.2.3.1//EN
TZID:America/New_York
X-WR-TIMEZONE:America/New_York
BEGIN:VEVENT
UID:419@cndf.qc.ca
DTSTART;TZID=America/New_York:20251129T090000
DTEND;TZID=America/New_York:20251129T090000
DTSTAMP:20250924T172316Z
URL:https://www.cndf.qc.ca/events/tournoi-cegep-levis-novembre-2025/
SUMMARY:Tournoi #2 au Cégep de Lévis
DESCRIPTION:Deuxième tournoi collégial de volleyball féminin du RSEQ.
ATTACH;FMTTYPE=image/jpeg:https://www.cndf.qc.ca/wp-content/uploads/2021/0
 9/calendrier-volleyball-feminin-scaled.jpg
CATEGORIES:Sports,Volleyball
LOCATION:Cégep de Lévis\, 205\, route Monseigneur-Bourget\, Lévis\, Qué
 bec\, G6V 6Z9\, Canada
X-APPLE-STRUCTURED-LOCATION;VALUE=URI;X-ADDRESS=205\, route Monseigneur-Bou
 rget\, Lévis\, Québec\, G6V 6Z9\, Canada;X-APPLE-RADIUS=100;X-TITLE=Cég
 ep de Lévis:geo:0,0
END:VEVENT
BEGIN:VTIMEZONE
TZID:America/New_York
X-LIC-LOCATION:America/New_York
BEGIN:STANDARD
DTSTART:20251102T010000
TZOFFSETFROM:-0400
TZOFFSETTO:-0500
TZNAME:EST
END:STANDARD
END:VTIMEZONE
END:VCALENDAR