BEGIN:VCALENDAR
VERSION:2.0
PRODID:-//wp-events-plugin.com//7.2.3.1//EN
TZID:America/New_York
X-WR-TIMEZONE:America/New_York
BEGIN:VEVENT
UID:279@cndf.qc.ca
DTSTART;TZID=America/New_York:20241013T100000
DTEND;TZID=America/New_York:20241013T140000
DTSTAMP:20241009T151534Z
URL:https://www.cndf.qc.ca/events/tournoi-conference-nord-est-limoilou-oct
 obre-2024/
SUMMARY:Tournoi #3 - Conférence Nord-Est à Limoilou
DESCRIPTION:Troisième tournoi collégial de rugby masculin du RSEQ.\n\nLie
 n de la webdiffusion : https://youtube.com/live/Ei-ieM5D9tc?feature=share
ATTACH;FMTTYPE=image/jpeg:https://www.cndf.qc.ca/wp-content/uploads/2023/0
 5/notre-dame-rugby-6-1.jpg
CATEGORIES:Rugby,Rugby masculin à 7
LOCATION:Cégep Limoilou\, 1300\, 8ème Avenue\, Québec\, Québec\, G1J 5L
 5\, Canada
X-APPLE-STRUCTURED-LOCATION;VALUE=URI;X-ADDRESS=1300\, 8ème Avenue\, Québ
 ec\, Québec\, G1J 5L5\, Canada;X-APPLE-RADIUS=100;X-TITLE=Cégep Limoilou
 :geo:0,0
END:VEVENT
BEGIN:VTIMEZONE
TZID:America/New_York
X-LIC-LOCATION:America/New_York
BEGIN:DAYLIGHT
DTSTART:20240310T030000
TZOFFSETFROM:-0500
TZOFFSETTO:-0400
TZNAME:EDT
END:DAYLIGHT
END:VTIMEZONE
END:VCALENDAR