BEGIN:VCALENDAR
VERSION:2.0
PRODID:-//wp-events-plugin.com//7.2.3.1//EN
TZID:America/New_York
X-WR-TIMEZONE:America/New_York
BEGIN:VEVENT
UID:240@cndf.qc.ca
DTSTART;TZID=America/New_York;VALUE=DATE:20240406
DTEND;TZID=America/New_York;VALUE=DATE:20240408
DTSTAMP:20240318T172256Z
URL:https://www.cndf.qc.ca/events/tournoi-hockey-provincial-techniques-pol
 icieres-avril-2024/
SUMMARY:Tournoi de hockey provincial des Techniques policières
DESCRIPTION:Les 6 et 7 avril aura lieu la toute première édition du Tourn
 oi provincial de hockey des programmes Techniques policières au Complexe 
 sportif Desjardins-SSF\, situé à proximité du CNDF.\n\nCet événement\
 , initié par 4 étudiants en Techniques policières au Campus\, permettra
  aux équipes de huit différents cégeps provenant de partout à travers 
 la province de disputer des matchs et de créer des liens entre eux.\n\nAd
 mission générale au coût de 5$ sur place.\n\nPour plus d'information à
  propos de ce tournoi\, vous pouvez suivre la page Facebook du programme d
 e Techniques policières du CNDF.
ATTACH;FMTTYPE=image/jpeg:https://www.cndf.qc.ca/wp-content/uploads/2024/0
 3/428452447_402401849027225_703305838233360710_n.jpg
LOCATION:Complexe sportif Desjardins-SSF\, 4900 rue Saint-Félix\, Saint-Au
 gustin-de-Desmaures\, Québec\, G3A 0L4\, Québec\, Canada
X-APPLE-STRUCTURED-LOCATION;VALUE=URI;X-ADDRESS=4900 rue Saint-Félix\, Sai
 nt-Augustin-de-Desmaures\, Québec\, G3A 0L4\, Québec\, Canada;X-APPLE-RA
 DIUS=100;X-TITLE=Complexe sportif Desjardins-SSF:geo:0,0
END:VEVENT
BEGIN:VTIMEZONE
TZID:America/New_York
X-LIC-LOCATION:America/New_York
BEGIN:DAYLIGHT
DTSTART:20240310T030000
TZOFFSETFROM:-0500
TZOFFSETTO:-0400
TZNAME:EDT
END:DAYLIGHT
END:VTIMEZONE
END:VCALENDAR