BEGIN:VCALENDAR
VERSION:2.0
PRODID:-//wp-events-plugin.com//7.2.3.1//EN
TZID:America/New_York
X-WR-TIMEZONE:America/New_York
BEGIN:VEVENT
UID:165@cndf.qc.ca
DTSTART;TZID=America/New_York:20231015T090000
DTEND;TZID=America/New_York:20231015T150000
DTSTAMP:20231010T154135Z
URL:https://www.cndf.qc.ca/events/tournoi-rugby-masculin-collegial-rseq-oc
 tobre-2023/
SUMMARY:Tournoi #3 au CNDF
DESCRIPTION:Lors de ce troisième tournoi collégial de rugby masculin du R
 SEQ\, le Notre-Dame affrontera les cégeps de Baie-Comeau\, de Sainte-Foy 
 et de Victoriaville.\n\nNous vous rappelons que vous avez jusqu’au 12 no
 vembre pour participer à la Loto Notre-Dame\, un moitié-moitié cumulati
 f. Procurez-vous vos billets ici pour encourager les équipes sportives du
  Campus et faire augmenter le montant de la cagnotte!
ATTACH;FMTTYPE=image/jpeg:https://www.cndf.qc.ca/wp-content/uploads/2023/0
 5/notre-dame-rugby-6-1.jpg
CATEGORIES:Rugby,Rugby masculin à 7
LOCATION:Campus Notre-Dame-de-Foy (stade des Anciens)\, 5000\, rue Clément
 -Lockquell\, Saint-Augustin-de-Desmaures\, Québec\, G3A 1B3\, Canada
X-APPLE-STRUCTURED-LOCATION;VALUE=URI;X-ADDRESS=5000\, rue Clément-Lockque
 ll\, Saint-Augustin-de-Desmaures\, Québec\, G3A 1B3\, Canada;X-APPLE-RADI
 US=100;X-TITLE=Campus Notre-Dame-de-Foy (stade des Anciens):geo:0,0
END:VEVENT
BEGIN:VTIMEZONE
TZID:America/New_York
X-LIC-LOCATION:America/New_York
BEGIN:DAYLIGHT
DTSTART:20230312T030000
TZOFFSETFROM:-0500
TZOFFSETTO:-0400
TZNAME:EDT
END:DAYLIGHT
END:VTIMEZONE
END:VCALENDAR