BEGIN:VCALENDAR
VERSION:2.0
PRODID:-//wp-events-plugin.com//7.2.3.1//EN
TZID:America/New_York
X-WR-TIMEZONE:America/New_York
BEGIN:VEVENT
UID:357@cndf.qc.ca
DTSTART;TZID=America/New_York;VALUE=DATE:20250928
DTEND;TZID=America/New_York;VALUE=DATE:20250929
DTSTAMP:20250605T195311Z
URL:https://www.cndf.qc.ca/events/tournoi-rugby-masculin-garneau-2025/
SUMMARY:Tournoi #2 - Conférence Nord-Est au Cégep Garneau
DESCRIPTION:Deuxième tournoi collégial de rugby masculin du RSEQ.
ATTACH;FMTTYPE=image/jpeg:https://www.cndf.qc.ca/wp-content/uploads/2025/0
 6/rugby-masculin-1-scaled.jpg
CATEGORIES:Rugby,Rugby masculin à 7
LOCATION:Cégep Garneau\, 1660\, boulevard de l'Entente\, Québec\, Québec
 \, G1S 4S3\, Canada
X-APPLE-STRUCTURED-LOCATION;VALUE=URI;X-ADDRESS=1660\, boulevard de l'Enten
 te\, Québec\, Québec\, G1S 4S3\, Canada;X-APPLE-RADIUS=100;X-TITLE=Cége
 p Garneau:geo:0,0
END:VEVENT
BEGIN:VTIMEZONE
TZID:America/New_York
X-LIC-LOCATION:America/New_York
BEGIN:DAYLIGHT
DTSTART:20250309T030000
TZOFFSETFROM:-0500
TZOFFSETTO:-0400
TZNAME:EDT
END:DAYLIGHT
END:VTIMEZONE
END:VCALENDAR