BEGIN:VCALENDAR
VERSION:2.0
PRODID:-//wp-events-plugin.com//7.2.3.1//EN
TZID:America/New_York
X-WR-TIMEZONE:America/New_York
BEGIN:VEVENT
UID:358@cndf.qc.ca
DTSTART;TZID=America/New_York;VALUE=DATE:20251011
DTEND;TZID=America/New_York;VALUE=DATE:20251012
DTSTAMP:20250605T195538Z
URL:https://www.cndf.qc.ca/events/tournoi-rugby-masculin-limoilou-2025/
SUMMARY:Tournoi #3 - Conférence Nord-Est au Cégep Limoilou
DESCRIPTION:Troisième tournoi collégial de rugby masculin du RSEQ.
ATTACH;FMTTYPE=image/jpeg:https://www.cndf.qc.ca/wp-content/uploads/2025/0
 6/rugby-masculin-1-scaled.jpg
CATEGORIES:Rugby,Rugby masculin à 7
LOCATION:Cégep Limoilou\, 1300\, 8ème Avenue\, Québec\, Québec\, G1J 5L
 5\, Canada
X-APPLE-STRUCTURED-LOCATION;VALUE=URI;X-ADDRESS=1300\, 8ème Avenue\, Québ
 ec\, Québec\, G1J 5L5\, Canada;X-APPLE-RADIUS=100;X-TITLE=Cégep Limoilou
 :geo:0,0
END:VEVENT
BEGIN:VTIMEZONE
TZID:America/New_York
X-LIC-LOCATION:America/New_York
BEGIN:DAYLIGHT
DTSTART:20250309T030000
TZOFFSETFROM:-0500
TZOFFSETTO:-0400
TZNAME:EDT
END:DAYLIGHT
END:VTIMEZONE
END:VCALENDAR