BEGIN:VCALENDAR
VERSION:2.0
PRODID:-//wp-events-plugin.com//7.2.3.1//EN
TZID:America/New_York
X-WR-TIMEZONE:America/New_York
BEGIN:VEVENT
UID:356@cndf.qc.ca
DTSTART;TZID=America/New_York;VALUE=DATE:20250914
DTEND;TZID=America/New_York;VALUE=DATE:20250915
DTSTAMP:20250605T194310Z
URL:https://www.cndf.qc.ca/events/tournoi-rugby-masculin-victoriaville-202
 5/
SUMMARY:Tournoi #1 - Conférence Nord-Est à Victoriaville
DESCRIPTION:Premier tournoi collégial de rugby masculin du RSEQ.
ATTACH;FMTTYPE=image/jpeg:https://www.cndf.qc.ca/wp-content/uploads/2025/0
 6/rugby-masculin-1-scaled.jpg
CATEGORIES:Rugby,Rugby masculin à 7
LOCATION:Cégep de Victoriaville\, 475\, rue Notre-Dame Est\, Victoriaville
 \, Québec\, G6P 4B3\, Canada
X-APPLE-STRUCTURED-LOCATION;VALUE=URI;X-ADDRESS=475\, rue Notre-Dame Est\, 
 Victoriaville\, Québec\, G6P 4B3\, Canada;X-APPLE-RADIUS=100;X-TITLE=Cég
 ep de Victoriaville:geo:0,0
END:VEVENT
BEGIN:VTIMEZONE
TZID:America/New_York
X-LIC-LOCATION:America/New_York
BEGIN:DAYLIGHT
DTSTART:20250309T030000
TZOFFSETFROM:-0500
TZOFFSETTO:-0400
TZNAME:EDT
END:DAYLIGHT
END:VTIMEZONE
END:VCALENDAR