BEGIN:VCALENDAR
VERSION:2.0
PRODID:-//wp-events-plugin.com//7.2.3.1//EN
TZID:America/New_York
X-WR-TIMEZONE:America/New_York
BEGIN:VEVENT
UID:16@cndf.qc.ca
DTSTART:20210919T050000Z
DTEND:20210919T050000Z
DTSTAMP:20210913T202843Z
URL:https://www.cndf.qc.ca/events/tournoi1-rugby-feminin-12-2021/
SUMMARY:Tournoi #1 - Saint-Hyacinthe
DESCRIPTION:
ATTACH;FMTTYPE=image/jpeg:https://www.cndf.qc.ca/wp-content/uploads/2021/0
 9/calendrier-rugby-feminin-e1630630425995-2.jpg
CATEGORIES:Rugby,Sports
LOCATION:Cégep de Saint-Hyacinthe\, 3000\, avenue Boullé\, Saint-Hyacinth
 e\, Québec\, J2S 1H9\, Canada
X-APPLE-STRUCTURED-LOCATION;VALUE=URI;X-ADDRESS=3000\, avenue Boullé\, Sai
 nt-Hyacinthe\, Québec\, J2S 1H9\, Canada;X-APPLE-RADIUS=100;X-TITLE=Cége
 p de Saint-Hyacinthe:geo:0,0
END:VEVENT
END:VCALENDAR