BEGIN:VCALENDAR
VERSION:2.0
PRODID:-//wp-events-plugin.com//7.2.3.1//EN
TZID:America/New_York
X-WR-TIMEZONE:America/New_York
BEGIN:VEVENT
UID:13@cndf.qc.ca
DTSTART:20210918T050000Z
DTEND:20210918T050000Z
DTSTAMP:20210913T194709Z
URL:https://www.cndf.qc.ca/events/tournoi1-rugby-feminin-7-2021/
SUMMARY:Tournoi #1 - Trois-Rivières
DESCRIPTION:
ATTACH;FMTTYPE=image/jpeg:https://www.cndf.qc.ca/wp-content/uploads/2021/0
 9/calendrier-rugby-feminin-e1630630425995-2.jpg
CATEGORIES:Rugby,Rugby féminin à 12,Sports
LOCATION:Cégep de Trois-Rivières\, 3175\, boulevard Laviolette\, Trois-Ri
 vières\, Québec\, G8Z 1E9\, Canada
X-APPLE-STRUCTURED-LOCATION;VALUE=URI;X-ADDRESS=3175\, boulevard Laviolette
 \, Trois-Rivières\, Québec\, G8Z 1E9\, Canada;X-APPLE-RADIUS=100;X-TITLE
 =Cégep de Trois-Rivières:geo:0,0
END:VEVENT
END:VCALENDAR