BEGIN:VCALENDAR
VERSION:2.0
PRODID:-//wp-events-plugin.com//7.2.3.1//EN
TZID:America/New_York
X-WR-TIMEZONE:America/New_York
BEGIN:VEVENT
UID:14@cndf.qc.ca
DTSTART:20211003T050000Z
DTEND:20211003T050000Z
DTSTAMP:20210913T203154Z
URL:https://www.cndf.qc.ca/events/tournoi2-rugby-feminin-7-2021/
SUMMARY:Tournoi #2 - Victoriaville
DESCRIPTION:Endroit à confirmer.
ATTACH;FMTTYPE=image/jpeg:https://www.cndf.qc.ca/wp-content/uploads/2021/0
 9/calendrier-rugby-feminin-e1630630425995-2.jpg
CATEGORIES:Rugby,Rugby féminin à 12,Sports
LOCATION:Cégep de Victoriaville\, 475\, rue Notre-Dame Est\, Victoriaville
 \, Québec\, G6P 4B3\, Canada
X-APPLE-STRUCTURED-LOCATION;VALUE=URI;X-ADDRESS=475\, rue Notre-Dame Est\, 
 Victoriaville\, Québec\, G6P 4B3\, Canada;X-APPLE-RADIUS=100;X-TITLE=Cég
 ep de Victoriaville:geo:0,0
END:VEVENT
END:VCALENDAR