BEGIN:VCALENDAR
VERSION:2.0
PRODID:-//wp-events-plugin.com//7.2.3.1//EN
TZID:America/New_York
X-WR-TIMEZONE:America/New_York
BEGIN:VEVENT
UID:15@cndf.qc.ca
DTSTART:20211010T050000Z
DTEND:20211010T050000Z
DTSTAMP:20211005T134049Z
URL:https://www.cndf.qc.ca/events/tournoi3-rugby-feminin-7-2021/
SUMMARY:Tournoi #3 - Lévis
DESCRIPTION:
ATTACH;FMTTYPE=image/jpeg:https://www.cndf.qc.ca/wp-content/uploads/2021/0
 9/calendrier_rugby_feminin_2021.jpg
CATEGORIES:Rugby,Rugby féminin à 12,Sports
LOCATION:Cégep de Lévis\, 205\, route Monseigneur-Bourget\, Lévis\, Qué
 bec\, G6V 6Z9\, Canada
X-APPLE-STRUCTURED-LOCATION;VALUE=URI;X-ADDRESS=205\, route Monseigneur-Bou
 rget\, Lévis\, Québec\, G6V 6Z9\, Canada;X-APPLE-RADIUS=100;X-TITLE=Cég
 ep de Lévis:geo:0,0
END:VEVENT
END:VCALENDAR