BEGIN:VCALENDAR
VERSION:2.0
PRODID:-//wp-events-plugin.com//7.2.3.1//EN
TZID:America/New_York
X-WR-TIMEZONE:America/New_York
BEGIN:VEVENT
UID:21@cndf.qc.ca
DTSTART:20211017T050000Z
DTEND:20211017T050000Z
DTSTAMP:20211005T134811Z
URL:https://www.cndf.qc.ca/events/tournoi3-rugby-masculin-7-2021/
SUMMARY:Tournoi #3 - Québec (Limoilou)
DESCRIPTION:
ATTACH;FMTTYPE=image/jpeg:https://www.cndf.qc.ca/wp-content/uploads/2021/0
 9/calendrier_rugby_masculin_2021-1.jpg
CATEGORIES:Rugby,Rugby masculin à 7,Sports
LOCATION:Cégep Limoilou\, 1300\, 8ème Avenue\, Québec\, Québec\, G1J 5L
 5\, Canada
X-APPLE-STRUCTURED-LOCATION;VALUE=URI;X-ADDRESS=1300\, 8ème Avenue\, Québ
 ec\, Québec\, G1J 5L5\, Canada;X-APPLE-RADIUS=100;X-TITLE=Cégep Limoilou
 :geo:0,0
END:VEVENT
END:VCALENDAR