BEGIN:VCALENDAR
VERSION:2.0
PRODID:-//wp-events-plugin.com//7.2.3.1//EN
TZID:America/New_York
X-WR-TIMEZONE:America/New_York
BEGIN:VEVENT
UID:259@cndf.qc.ca
DTSTART;TZID=America/New_York:20241006T130000
DTEND;TZID=America/New_York:20241006T140000
DTSTAMP:20240919T185224Z
URL:https://www.cndf.qc.ca/events/trois-rivieres-notre-dame-octobre-2024/
SUMMARY:Trois-Rivières c. Notre-Dame (jaune)
DESCRIPTION:Quatrième partie de la saison de l’équipe féminine du Notr
 e-Dame Rugby (jaune) contre le Cégep de Trois-Rivières.\n\nLien pour la 
 webdiffusion : https://youtube.com/live/bzD3k8wemoQ?feature=share\n\n&nbsp
 \;
ATTACH;FMTTYPE=image/jpeg:https://www.cndf.qc.ca/wp-content/uploads/2024/0
 5/rugby-feminin-notre-dame-2023.jpg
CATEGORIES:Rugby,Rugby féminin à 12
LOCATION:Campus Notre-Dame-de-Foy\, 5000\, rue Clément-Lockquell\, Saint-A
 ugustin-de-Desmaures\, Québec\, G3A 1B3\, Québec\, Canada
X-APPLE-STRUCTURED-LOCATION;VALUE=URI;X-ADDRESS=5000\, rue Clément-Lockque
 ll\, Saint-Augustin-de-Desmaures\, Québec\, G3A 1B3\, Québec\, Canada;X-
 APPLE-RADIUS=100;X-TITLE=Campus Notre-Dame-de-Foy:geo:0,0
END:VEVENT
BEGIN:VTIMEZONE
TZID:America/New_York
X-LIC-LOCATION:America/New_York
BEGIN:DAYLIGHT
DTSTART:20240310T030000
TZOFFSETFROM:-0500
TZOFFSETTO:-0400
TZNAME:EDT
END:DAYLIGHT
END:VTIMEZONE
END:VCALENDAR