BEGIN:VCALENDAR
VERSION:2.0
PRODID:-//wp-events-plugin.com//7.2.3.1//EN
TZID:America/New_York
X-WR-TIMEZONE:America/New_York
BEGIN:VEVENT
UID:335@cndf.qc.ca
DTSTART;TZID=America/New_York:20241025T180000
DTEND;TZID=America/New_York:20241025T220000
DTSTAMP:20241009T172331Z
URL:https://www.cndf.qc.ca/events/vin-fromage-equipe-rugby-feminin/
SUMMARY:Vin et fromage au profit de l'équipe de rugby féminin
DESCRIPTION:L'événement "Vin et Fromage" au profit de l'équipe de rugby 
 féminin du Notre-Dame se déroulera le 25 octobre à partir de 18h.\n\nLe
 s billets incluent uniquement la portion "fromage"\; il sera évidemment 
 possible d'acheter des bouteilles de vin sur place pour compléter la dég
 ustation et personnaliser l'expérience selon vos goûts. Des boissons san
 s alcool\, de la bière et du vin au verre seront aussi disponibles.\n\nCe
 t événement est l'occasion parfaite pour savourer une belle sélection t
 out en soutenant l'équipe féminine de rugby.\n\nPour toutes questions\, 
 contactez-nous via courriel au notredamerugby15@gmail.com.\n\n*Prenez not
 e que nous offrirons une sélection de fromages sans lactose.\n\n
ATTACH;FMTTYPE=image/jpeg:https://www.cndf.qc.ca/wp-content/uploads/2024/1
 0/calendrier.jpg
CATEGORIES:Rugby
END:VEVENT
BEGIN:VTIMEZONE
TZID:America/New_York
X-LIC-LOCATION:America/New_York
BEGIN:DAYLIGHT
DTSTART:20240310T030000
TZOFFSETFROM:-0500
TZOFFSETTO:-0400
TZNAME:EDT
END:DAYLIGHT
END:VTIMEZONE
END:VCALENDAR