BEGIN:VCALENDAR
VERSION:2.0
PRODID:-//wp-events-plugin.com//7.2.3.1//EN
TZID:America/New_York
X-WR-TIMEZONE:America/New_York
BEGIN:VEVENT
UID:49@cndf.qc.ca
DTSTART;TZID=America/Toronto:20211023T100000
DTEND;TZID=America/Toronto:20211023T160000
DTSTAMP:20211005T150840Z
URL:https://www.cndf.qc.ca/events/volleyball-feminin-competition1-saison20
 21-2022/
SUMMARY:Compétition #1 - Québec (Garneau)
DESCRIPTION:Première compétition de la saison de volley-ball féminin pou
 r le Notre-Dame au Cégep Garneau.\n\nGarneau vs Notre-Dame à 10:00\nNotr
 e-Dame vs Limoilou 2 à 12:00\n
ATTACH;FMTTYPE=image/jpeg:https://www.cndf.qc.ca/wp-content/uploads/2021/0
 9/calendrier-volleyball-feminin-scaled.jpg
CATEGORIES:Volleyball
LOCATION:Cégep Garneau\, 1660\, boulevard de l'Entente\, Québec\, Québec
 \, G1S 4S3\, Canada
X-APPLE-STRUCTURED-LOCATION;VALUE=URI;X-ADDRESS=1660\, boulevard de l'Enten
 te\, Québec\, Québec\, G1S 4S3\, Canada;X-APPLE-RADIUS=100;X-TITLE=Cége
 p Garneau:geo:0,0
END:VEVENT
BEGIN:VTIMEZONE
TZID:America/Toronto
X-LIC-LOCATION:America/Toronto
BEGIN:DAYLIGHT
DTSTART:20210314T030000
TZOFFSETFROM:-0500
TZOFFSETTO:-0400
TZNAME:EDT
END:DAYLIGHT
END:VTIMEZONE
END:VCALENDAR