BEGIN:VCALENDAR
VERSION:2.0
PRODID:-//wp-events-plugin.com//7.2.3.1//EN
TZID:America/New_York
X-WR-TIMEZONE:America/New_York
BEGIN:VEVENT
UID:23@cndf.qc.ca
DTSTART;TZID=America/Toronto:20211127T100000
DTEND;TZID=America/Toronto:20211127T160000
DTSTAMP:20211005T150119Z
URL:https://www.cndf.qc.ca/events/volleyball-feminin-competition2-saison20
 21-2022/
SUMMARY:Compétition #2 - CNDF
DESCRIPTION:Deuxième compétition de la saison de volley-ball féminin au 
 Campus Notre-Dame-de-Foy.\n\nNotre-Dame vs Limoilou 2 à 10:00\nGarneau vs
  Notre-Dame à 14:00
ATTACH;FMTTYPE=image/jpeg:https://www.cndf.qc.ca/wp-content/uploads/2021/0
 9/calendrier-volleyball-feminin-scaled.jpg
CATEGORIES:Volleyball
LOCATION:Campus Notre-Dame-de-Foy\, 5000\, rue Clément-Lockquell\, Saint-A
 ugustin-de-Desmaures\, Québec\, G3A 1B3\, Québec\, Canada
X-APPLE-STRUCTURED-LOCATION;VALUE=URI;X-ADDRESS=5000\, rue Clément-Lockque
 ll\, Saint-Augustin-de-Desmaures\, Québec\, G3A 1B3\, Québec\, Canada;X-
 APPLE-RADIUS=100;X-TITLE=Campus Notre-Dame-de-Foy:geo:0,0
END:VEVENT
BEGIN:VTIMEZONE
TZID:America/Toronto
X-LIC-LOCATION:America/Toronto
BEGIN:STANDARD
DTSTART:20211107T010000
TZOFFSETFROM:-0400
TZOFFSETTO:-0500
TZNAME:EST
END:STANDARD
END:VTIMEZONE
END:VCALENDAR