BEGIN:VCALENDAR
VERSION:2.0
PRODID:-//wp-events-plugin.com//7.2.3.1//EN
TZID:America/New_York
X-WR-TIMEZONE:America/New_York
BEGIN:VEVENT
UID:51@cndf.qc.ca
DTSTART;TZID=America/Toronto:20220305T100000
DTEND;TZID=America/Toronto:20220305T180000
DTSTAMP:20220302T202346Z
URL:https://www.cndf.qc.ca/events/volleyball-feminin-competition4-saison20
 21-2022/
SUMMARY:Compétition #2 - Thetford
DESCRIPTION:Deuxième compétition de la saison de volley-ball féminin pou
 r le Notre-Dame au Cégep de Thetford.\n\nNotre-Dame vs Thetford à 10:00\
 nChicoutimi vs Notre-Dame à 11:15\nNotre-Dame vs Limoilou à 13:45\nTrois
 -Rivières vs Notre-Dame à 16:15
ATTACH;FMTTYPE=image/jpeg:https://www.cndf.qc.ca/wp-content/uploads/2021/0
 9/calendrier-volleyball-feminin-scaled.jpg
CATEGORIES:Volleyball
LOCATION:Cégep de Thetford\, 671\, boulevard Frontenac uuest\, Thetford Mi
 nes\, Québec\, G6G 1N1\, Québec\, Canada
X-APPLE-STRUCTURED-LOCATION;VALUE=URI;X-ADDRESS=671\, boulevard Frontenac u
 uest\, Thetford Mines\, Québec\, G6G 1N1\, Québec\, Canada;X-APPLE-RADIU
 S=100;X-TITLE=Cégep de Thetford:geo:0,0
END:VEVENT
BEGIN:VTIMEZONE
TZID:America/Toronto
X-LIC-LOCATION:America/Toronto
BEGIN:STANDARD
DTSTART:20211107T010000
TZOFFSETFROM:-0400
TZOFFSETTO:-0500
TZNAME:EST
END:STANDARD
END:VTIMEZONE
END:VCALENDAR